BEGIN:VCALENDAR
VERSION:2.0
PRODID:-//Commune de Lagardelle-sur-Lèze - ECPv6.15.13//NONSGML v1.0//EN
CALSCALE:GREGORIAN
METHOD:PUBLISH
X-ORIGINAL-URL:https://www.lagardellesurleze.fr
X-WR-CALDESC:Évènements pour Commune de Lagardelle-sur-Lèze
REFRESH-INTERVAL;VALUE=DURATION:PT1H
X-Robots-Tag:noindex
X-PUBLISHED-TTL:PT1H
BEGIN:VTIMEZONE
TZID:Europe/Paris
BEGIN:DAYLIGHT
TZOFFSETFROM:+0100
TZOFFSETTO:+0200
TZNAME:CEST
DTSTART:20250330T010000
END:DAYLIGHT
BEGIN:STANDARD
TZOFFSETFROM:+0200
TZOFFSETTO:+0100
TZNAME:CET
DTSTART:20251026T010000
END:STANDARD
BEGIN:DAYLIGHT
TZOFFSETFROM:+0100
TZOFFSETTO:+0200
TZNAME:CEST
DTSTART:20260329T010000
END:DAYLIGHT
BEGIN:STANDARD
TZOFFSETFROM:+0200
TZOFFSETTO:+0100
TZNAME:CET
DTSTART:20261025T010000
END:STANDARD
BEGIN:DAYLIGHT
TZOFFSETFROM:+0100
TZOFFSETTO:+0200
TZNAME:CEST
DTSTART:20270328T010000
END:DAYLIGHT
BEGIN:STANDARD
TZOFFSETFROM:+0200
TZOFFSETTO:+0100
TZNAME:CET
DTSTART:20271031T010000
END:STANDARD
END:VTIMEZONE
BEGIN:VEVENT
DTSTART;TZID=Europe/Paris:20260703T194500
DTEND;TZID=Europe/Paris:20260703T230000
DTSTAMP:20260423T215101
CREATED:20260414T082638Z
LAST-MODIFIED:20260414T082638Z
UID:14523-1783107900-1783119600@www.lagardellesurleze.fr
SUMMARY:Concours de pétanque
DESCRIPTION:Depuis le mois d’avril\, le club de pétanque organise des concours en doublettes\, ouverts à tous. \nLe dernier aura lieu le vendredi 3 juillet soir. \nLe concours se déroulera en 4 parties qui commenceront à 20h30. Les inscriptions\, au tarif de 8 €\, se feront sur place à partir de 19h45. \n4 € seront remboursés pour chaque partie gagnée. \nDes sandwiches seront disponibles à la vente sur place au prix de 2\,5 €.
URL:https://www.lagardellesurleze.fr/evenement/concours-de-petanque-2-2-2-2-2-2/
CATEGORIES:Associations,Loisirs,Sport
ATTACH;FMTTYPE=image/png:https://www.lagardellesurleze.fr/wp-content/uploads/2026/04/Bandeau-Concours-de-petanque.png
END:VEVENT
END:VCALENDAR