BEGIN:VCALENDAR
VERSION:2.0
PRODID:-//Commune de Lagardelle-sur-Lèze - ECPv6.15.13//NONSGML v1.0//EN
CALSCALE:GREGORIAN
METHOD:PUBLISH
X-ORIGINAL-URL:https://www.lagardellesurleze.fr
X-WR-CALDESC:Évènements pour Commune de Lagardelle-sur-Lèze
REFRESH-INTERVAL;VALUE=DURATION:PT1H
X-Robots-Tag:noindex
X-PUBLISHED-TTL:PT1H
BEGIN:VTIMEZONE
TZID:Europe/Paris
BEGIN:DAYLIGHT
TZOFFSETFROM:+0100
TZOFFSETTO:+0200
TZNAME:CEST
DTSTART:20250330T010000
END:DAYLIGHT
BEGIN:STANDARD
TZOFFSETFROM:+0200
TZOFFSETTO:+0100
TZNAME:CET
DTSTART:20251026T010000
END:STANDARD
BEGIN:DAYLIGHT
TZOFFSETFROM:+0100
TZOFFSETTO:+0200
TZNAME:CEST
DTSTART:20260329T010000
END:DAYLIGHT
BEGIN:STANDARD
TZOFFSETFROM:+0200
TZOFFSETTO:+0100
TZNAME:CET
DTSTART:20261025T010000
END:STANDARD
BEGIN:DAYLIGHT
TZOFFSETFROM:+0100
TZOFFSETTO:+0200
TZNAME:CEST
DTSTART:20270328T010000
END:DAYLIGHT
BEGIN:STANDARD
TZOFFSETFROM:+0200
TZOFFSETTO:+0100
TZNAME:CET
DTSTART:20271031T010000
END:STANDARD
END:VTIMEZONE
BEGIN:VEVENT
DTSTART;TZID=Europe/Paris:20260201T123000
DTEND;TZID=Europe/Paris:20260201T150000
DTSTAMP:20260423T135529
CREATED:20260120T091404Z
LAST-MODIFIED:20260120T091404Z
UID:14182-1769949000-1769958000@www.lagardellesurleze.fr
SUMMARY:LOTO de la Chandeleur
DESCRIPTION:L’ACAL organise un LOTO de la Chandeleur\, ce dimanche 1er février\, dans la salle des fêtes de Lagardelle-sur-Lèze. \nDe nombreux lots sont à gagner : bons d’achat\, TV\, Air Fryer\, machine expresso\, paniers garnis\, lots de gras\, séance Spa\, spectacle au Casino Barrière\, 2 places pour voir le Stade Toulousain… \nVous pourrez également tenter de remporter le jambon avec la Tombola ! \nTarifs (paiement par carte bancaire\, chèque ou espèces) : \n\n1 carton : 3 €\n3 cartons : 8 €\n6 cartons : 15 €\n12 cartons : 20 €\n2 parties spéciales à 2\,5 €\n1 partie offerte pour les enfants de -13 ans\n\n  \nDes boissons et des crêpes seront en vente sur place. Rendez-vous à 12h30 afin de débuter le jeu à 14h.
URL:https://www.lagardellesurleze.fr/evenement/loto-de-la-chandeleur/
LOCATION:Salle des fêtes\, 6 Rue des Puits\, Lagardelle-sur-Lèze\, 31870
CATEGORIES:Associations,Loisirs
END:VEVENT
BEGIN:VEVENT
DTSTART;TZID=Europe/Paris:20260221T193000
DTEND;TZID=Europe/Paris:20260221T230000
DTSTAMP:20260423T135529
CREATED:20260123T145516Z
LAST-MODIFIED:20260123T154148Z
UID:14200-1771702200-1771714800@www.lagardellesurleze.fr
SUMMARY:Concert - L'Équipage
DESCRIPTION:Samedi 21 février\, embarquez pour un concert avec L’Équipage au Café culturel « La Grange » ! \nCe duo de rappeurs vous entraîne dans un concert intense et percutant. Ce dernier débutera à 20h30 et sera précédé d’un Open mic (scène ouverte) à 19h30. \n« Hadock et Troma sont deux rappeurs issus du collectif toulousain L’Équipage.\nIls se produisent aujourd’hui en formation duo pour défendre leur nouveau projet commun : « De vous à nous ».\nSur scène\, les deux pirates livrent un concert intense et sans compromis. Une énergie brute\, des textes sombres et incisifs\, une rage maîtrisée qui frappe droit dans la foule. Leur univers navigue entre rap underground\, sonorités électriques et atmosphères abyssales.\nAmour\, Piraterie\, Bordel » \nLe duo sera rejoint par le rappeur SVk0 : \n\n« L’un des meilleurs découpeurs de Toulouse\, SVk0 impose un univers sombre\, brutal mais aussi mélancolique et dansant. \nDes paroles toujours percutantes sur une large palette d’instrus. \nHabituellement épaulé par son Dj Keuz et son copilote Gotama\, SVk0 viendra cramer la scène de Lagardelle sur Lèze le 21 février ! »\n\nPrêt.e.s à prendre le large ? Rendez-vous le samedi 21 février au Café culturel « La Grange » !\n\nEntrée 5 €\nGratuit pour les -18 ans
URL:https://www.lagardellesurleze.fr/evenement/concert-lequipage/
LOCATION:Café Culturel « La Grange »\, 1 impasse de la Mairie\, Lagardelle-sur-Lèze\, 31870
CATEGORIES:Café culturel,Culture
ATTACH;FMTTYPE=image/png:https://www.lagardellesurleze.fr/wp-content/uploads/2026/01/Bandeau-Lequipage.png
END:VEVENT
END:VCALENDAR