BEGIN:VCALENDAR
VERSION:2.0
PRODID:-//Commune de Lagardelle-sur-Lèze - ECPv6.15.13//NONSGML v1.0//EN
CALSCALE:GREGORIAN
METHOD:PUBLISH
X-WR-CALNAME:Commune de Lagardelle-sur-Lèze
X-ORIGINAL-URL:https://www.lagardellesurleze.fr
X-WR-CALDESC:Évènements pour Commune de Lagardelle-sur-Lèze
REFRESH-INTERVAL;VALUE=DURATION:PT1H
X-Robots-Tag:noindex
X-PUBLISHED-TTL:PT1H
BEGIN:VTIMEZONE
TZID:Europe/Paris
BEGIN:DAYLIGHT
TZOFFSETFROM:+0100
TZOFFSETTO:+0200
TZNAME:CEST
DTSTART:20240331T010000
END:DAYLIGHT
BEGIN:STANDARD
TZOFFSETFROM:+0200
TZOFFSETTO:+0100
TZNAME:CET
DTSTART:20241027T010000
END:STANDARD
BEGIN:DAYLIGHT
TZOFFSETFROM:+0100
TZOFFSETTO:+0200
TZNAME:CEST
DTSTART:20250330T010000
END:DAYLIGHT
BEGIN:STANDARD
TZOFFSETFROM:+0200
TZOFFSETTO:+0100
TZNAME:CET
DTSTART:20251026T010000
END:STANDARD
BEGIN:DAYLIGHT
TZOFFSETFROM:+0100
TZOFFSETTO:+0200
TZNAME:CEST
DTSTART:20260329T010000
END:DAYLIGHT
BEGIN:STANDARD
TZOFFSETFROM:+0200
TZOFFSETTO:+0100
TZNAME:CET
DTSTART:20261025T010000
END:STANDARD
END:VTIMEZONE
BEGIN:VEVENT
DTSTART;TZID=Europe/Paris:20251004T140000
DTEND;TZID=Europe/Paris:20251004T173000
DTSTAMP:20260423T195933
CREATED:20250924T161304Z
LAST-MODIFIED:20250926T100018Z
UID:13542-1759586400-1759599000@www.lagardellesurleze.fr
SUMMARY:Articule en Sciences : Après-midi festive !
DESCRIPTION:Samedi 4 octobre\nPour cette nouvelle édition 2025\, l’Entente Articule met à l’honneur les sciences à l’occasion de la manifestation nationale « Fête de la Science ».\nDans ce cadre\, une après-midi festive\, animée par l’ensemble des médiathèques\, aura lieu le samedi 4 octobre à Lagardelle-sur-Lèze\, de 14h à 17h30.\nVenez participer aux nombreuses activités et animations GRATUITES pour toute la famille : théâtre\, exposition\, animations\, lectures et de nombreux ateliers ! \nProgramme :\n\n\nÀ partir de 14h : Atelier-jeux « La Marmite de l’herboriste » pour les enfants dès 8 ans.\nAtelier animé par Dorianne Herrera. Proposé par la médiathèque de Pins-Justaret – Sans inscription\nDe 14h à 15h30 : Atelier « Aquarelle contée » pour les 7-10 ans / De 16h à 17h : Atelier « Aquarelle contée » pour les 4-6 ans.\nAteliers animés par Gisèle Lumia de « La vie en couleur ». Inscription sur le site de la médiathèque de Roquettes.\nDe 14h à 15h : Atelier « Comment ça marche : La biodiversité » pour les 8-14ans / De 15h30 à 16h30 : Atelier « Comment ça marche : Les secrets de l’air » pour les 6-12 ans.\nAteliers animés par l’association Kid’Science. Inscription obligatoire auprès de la médiathèque d’Eaunes : 05.62.23.23.22.\nDe 14h30 à 16h : Atelier « Sous l’océan » pour les enfants dès 6 ans.\nAtelier animé Les savants fous. Proposé par la médiathèque de Roques – Sans inscription\nÀ 15h30 : Atelier « Code avec la première programmeuse du monde »\nAnimé par Délires d’encres. Proposé par la médiathèque de Labarthe-sur-Lèze – COMPLET\nÀ 15h et 17h : Théâtre « Nuit quantique chez Alice » (2 représentations de 30 min)\nPièce de la troupe du collège Marcel Doret. Inscription sur le site de la médiathèque de Lagardelle.\n\nDurant toute l’après-midi\, retrouvez également l’exposition « Illusions par les mathématiques » de l’artiste KZO à la Médiathèque ainsi qu’une vente de crêpes sur la place de Verdun. \nLa journée se conclura par un apéritif offert par la Mairie de Lagardelle-sur-Lèze\, à 17h30 au Café culturel « La Grange ». \n\nMais aussi…\nPendant tout le mois d’octobre\, les 6 communes de l’entente proposent des animations variées\, en lien avec le thème. \nDécouvrez le programme complet !
URL:https://www.lagardellesurleze.fr/evenement/articule-en-sciences-apres-midi-festive/
LOCATION:Lagardelle-sur-Lèze\, 31870
CATEGORIES:Jeunesse,Médiathèque
END:VEVENT
BEGIN:VEVENT
DTSTART;TZID=Europe/Paris:20251010T193000
DTEND;TZID=Europe/Paris:20251010T213000
DTSTAMP:20260423T195933
CREATED:20250923T075506Z
LAST-MODIFIED:20250923T075516Z
UID:13534-1760124600-1760131800@www.lagardellesurleze.fr
SUMMARY:Séance de sophrologie (Octobre Rose)
DESCRIPTION:Dans le cadre de la 3ème édition d’Octobre Rose à Lagardelle-sur-Lèze\, la sophrologue Céline CHIBON propose une séance de sophrologie le vendredi 10 octobre. \nVenez partager un moment de relaxation à partir de 19h30 dans l’Espace associatif 1901 (place de Verdun). Pensez à amener vos tapis de gym si vous en avez ! \nParticipation libre  \nTous les bénéfices seront reversés à la lutte contre le cancer du sein.
URL:https://www.lagardellesurleze.fr/evenement/seance-de-sophrologie-octobre-rose/
LOCATION:Espace associatif 1901
CATEGORIES:Santé,Solidarité
END:VEVENT
BEGIN:VEVENT
DTSTART;TZID=Europe/Paris:20251010T203000
DTEND;TZID=Europe/Paris:20251010T213000
DTSTAMP:20260423T195933
CREATED:20250925T153830Z
LAST-MODIFIED:20251001T155011Z
UID:13555-1760128200-1760131800@www.lagardellesurleze.fr
SUMMARY:Rencontre auteure à la Médiathèque : Karine SULPICE
DESCRIPTION:Dans le cadre du festival Toulouse Polars du Sud\, la médiathèque vous propose de rencontrer Karine SULPICE\, autrice du roman policier « Les bons sentiments » (2025)\, le vendredi 10 octobre à 20h30. \nLes places étant limitées\, merci de vous inscrire via le site de la médiathèque. \nRetrouvez tout le programme du festival ICI. \nGratuit
URL:https://www.lagardellesurleze.fr/evenement/rencontre-auteure-a-la-mediatheque-karine-sulpice/
LOCATION:Médiathèque\, 3 rue du Château du Vignaou\, Lagardelle-sur-Lèze\, 31870
CATEGORIES:Culture,Médiathèque
END:VEVENT
BEGIN:VEVENT
DTSTART;TZID=Europe/Paris:20251011T093000
DTEND;TZID=Europe/Paris:20251011T123000
DTSTAMP:20260423T195933
CREATED:20250925T154921Z
LAST-MODIFIED:20250925T154921Z
UID:13559-1760175000-1760185800@www.lagardellesurleze.fr
SUMMARY:Atelier animé par l'artiste KZO : "Illusions d'optique par les Mathématiques"
DESCRIPTION:Dans le cadre de l’événement « Articule en Sciences! » (organisé par l’Entente Articule)\, la Médiathèque de Lagardelle-sur-Lèze propose un atelier le samedi 11 octobre\, de 9h30 à 12h30\, au Café culturel « La Grange ».\nAccompagné.e par l’artiste\, réalisez votre propre œuvre dans son style en noir et blanc qui mélange l’Op Art\, les calculs mathématiques\, les formes géométriques. \nÀ partir de 10 ans.\nGratuit – Inscription sur le site de la Médiathèque ICI. \nÀ noter : L’atelier sera suivi du vernissage de l’exposition présentée à la Médiathèque du 1er octobre au 4 novembre 2025.
URL:https://www.lagardellesurleze.fr/evenement/atelier-anime-par-lartiste-kzo-illusions-doptique-par-les-mathematiques/
LOCATION:Café Culturel « La Grange »\, 1 impasse de la Mairie\, Lagardelle-sur-Lèze\, 31870
CATEGORIES:Café culturel,Culture,Médiathèque
END:VEVENT
BEGIN:VEVENT
DTSTART;TZID=Europe/Paris:20251011T123000
DTEND;TZID=Europe/Paris:20251011T133000
DTSTAMP:20260423T195933
CREATED:20250925T155055Z
LAST-MODIFIED:20250925T155055Z
UID:13562-1760185800-1760189400@www.lagardellesurleze.fr
SUMMARY:Vernissage de l'exposition KZO
DESCRIPTION:Du 1er octobre au 4 novembre 2025\, l’artiste KZO expose ses œuvres à la Médiathèque de Lagardelle-sur-Lèze.\nCette exposition est proposée dans le cadre de l’Entente Articule qui met les sciences à l’honneur pour cette édition 2025 « Articule en Sciences ! ». Retrouvez toutes les animations proposées durant tout le mois d’octobre par les 6 médiathèques de l’entente ICI. \n« KZO »\, de son vrai nom Jean-Paul Cazaux\, est un artiste toulousain.\nSon art mélange l’Op Art\, les calculs mathématiques\, les formes géométriques ainsi que sa passion pour le dessin et l’imprimerie en noir et blanc. \nRencontrez l’artiste KZO lors du vernissage de l’exposition le samedi 11 octobre à 12h30 à la Médiathèque de Lagardelle-sur-Lèze. Ce moment convivial vous permettra de (re)découvrir l’exposition et d’échanger avec l’artiste autour d’un verre. \nEn lien avec cette exposition\, l’artiste animera un atelier le matin du vernissage\, samedi 11 octobre de 9h30 à 12h30 au Café culturel « La Grange ».\nAtelier accessible à partir de 10 ans. Gratuit – Inscription sur le site de la Médiathèque ICI.
URL:https://www.lagardellesurleze.fr/evenement/vernissage-de-lexposition-kzo/
LOCATION:Médiathèque\, 3 rue du Château du Vignaou\, Lagardelle-sur-Lèze\, 31870
CATEGORIES:Culture,Médiathèque
END:VEVENT
BEGIN:VEVENT
DTSTART;TZID=Europe/Paris:20251012T090000
DTEND;TZID=Europe/Paris:20251012T170000
DTSTAMP:20260423T195933
CREATED:20250923T074222Z
LAST-MODIFIED:20250926T141228Z
UID:13526-1760259600-1760288400@www.lagardellesurleze.fr
SUMMARY:Octobre Rose - 3ème édition
DESCRIPTION:Journée caritative du Dimanche 12 octobre :\nLe dimanche 12 octobre se tiendra la 3ème édition d’Octobre Rose à Lagardelle-sur-Lèze. \nCette journée caritative\, organisée par la municipalité\, le COJEIL (Comité de Jumelage) et les associations\, vise à récolter des fonds pour la lutte contre le cancer du sein. \nLa matinée commencera par des marches et courses solidaires qui seront suivies de nombreuses animations à partir de 10h dans le parc du Vignaou. \nProgramme complet d’Octobre Rose 2025 \nUn repas est également proposé le midi au tarif de 15 € par personne\, sur inscription à l’Alimentation de l’église (place de Verdun). \n\nOctobre Rose c’est aussi :\n\nDurant tout le mois où vous pouvez faire un don chez vos commerçants et artisans membres de l’ACAL ;\nLe vendredi 10 octobre avec une séance de sophrologie proposée par Céline CHIBON à 19h30 dans l’Espace associatif 1901.\n\n  \nMerci à toutes les associations qui se mobilisent pour cette 3ème édition ! \nParticipation libre. Tous les bénéfices seront reversés à la lutte contre le cancer.
URL:https://www.lagardellesurleze.fr/evenement/octobre-rose-3eme-edition/
LOCATION:Parc du château\, Parc du Vignaou\, 3 rue du Château du Vignaou\, Lagardelle-sur-Lèze\, 31870
CATEGORIES:Associations,Solidarité
END:VEVENT
BEGIN:VEVENT
DTSTART;TZID=Europe/Paris:20251031T153000
DTEND;TZID=Europe/Paris:20251031T170000
DTSTAMP:20260423T195933
CREATED:20250925T155833Z
LAST-MODIFIED:20251001T144013Z
UID:13566-1761924600-1761930000@www.lagardellesurleze.fr
SUMMARY:Goûter Halloween
DESCRIPTION:L’Association des Parents d’Élèves « Souris Petit Colibri » vous donne rendez-vous le vendredi 31 octobre à 15h30 au Café culturel « La Grange » pour la 4ème édition du Goûter d’Halloween ! \nEnfilez votre costume le plus terrifiant et partagez un moment gourmand suivi d’une chasse au trésor dans le village. \nGratuit
URL:https://www.lagardellesurleze.fr/evenement/gouter-halloween/
LOCATION:Café Culturel « La Grange »\, 1 impasse de la Mairie\, Lagardelle-sur-Lèze\, 31870
CATEGORIES:Associations,Jeunesse
END:VEVENT
END:VCALENDAR