BEGIN:VCALENDAR
VERSION:2.0
PRODID:-//Commune de Lagardelle-sur-Lèze - ECPv6.15.13//NONSGML v1.0//EN
CALSCALE:GREGORIAN
METHOD:PUBLISH
X-WR-CALNAME:Commune de Lagardelle-sur-Lèze
X-ORIGINAL-URL:https://www.lagardellesurleze.fr
X-WR-CALDESC:Évènements pour Commune de Lagardelle-sur-Lèze
REFRESH-INTERVAL;VALUE=DURATION:PT1H
X-Robots-Tag:noindex
X-PUBLISHED-TTL:PT1H
BEGIN:VTIMEZONE
TZID:Europe/Paris
BEGIN:DAYLIGHT
TZOFFSETFROM:+0100
TZOFFSETTO:+0200
TZNAME:CEST
DTSTART:20240331T010000
END:DAYLIGHT
BEGIN:STANDARD
TZOFFSETFROM:+0200
TZOFFSETTO:+0100
TZNAME:CET
DTSTART:20241027T010000
END:STANDARD
BEGIN:DAYLIGHT
TZOFFSETFROM:+0100
TZOFFSETTO:+0200
TZNAME:CEST
DTSTART:20250330T010000
END:DAYLIGHT
BEGIN:STANDARD
TZOFFSETFROM:+0200
TZOFFSETTO:+0100
TZNAME:CET
DTSTART:20251026T010000
END:STANDARD
BEGIN:DAYLIGHT
TZOFFSETFROM:+0100
TZOFFSETTO:+0200
TZNAME:CEST
DTSTART:20260329T010000
END:DAYLIGHT
BEGIN:STANDARD
TZOFFSETFROM:+0200
TZOFFSETTO:+0100
TZNAME:CET
DTSTART:20261025T010000
END:STANDARD
END:VTIMEZONE
BEGIN:VEVENT
DTSTART;TZID=Europe/Paris:20250316T100000
DTEND;TZID=Europe/Paris:20250316T110000
DTSTAMP:20260424T055444
CREATED:20250311T151329Z
LAST-MODIFIED:20250311T151802Z
UID:12420-1742119200-1742122800@www.lagardellesurleze.fr
SUMMARY:Atelier créatif KID'IZI
DESCRIPTION:Carton\, fils\, imagination… L’association KID’IZI vous propose un nouvel atelier créatif tout en douceur. Les binômes enfant/parent pourront imaginer des créations pleines de couleurs. \nRendez-vous ce dimanche 16 mars à 10h à la Maison Duc (en face de l’église). \nEnfants de 3 à 10 ans (places limitées à 8 enfants maximum) – Gratuit pour les adhérents \nRéservez ICI! \nSi ce n’est pas déjà fait\, il vous suffira d’adhérer lors de votre première participation. La cotisation est fixée en fonction du nombre d’enfants (10€ pour 1 enfant\, 15€ pour 2 enfants\, 20€ à partir de 3 enfants).
URL:https://www.lagardellesurleze.fr/evenement/atelier-creatif-kidizi/
LOCATION:Maison DUC\, Rue des Fossés du Fort\, Lagardelle-sur-Lèze\, 31870\, France
CATEGORIES:Associations,Jeunesse,Loisirs
END:VEVENT
END:VCALENDAR