BEGIN:VCALENDAR
VERSION:2.0
PRODID:-//Commune de Lagardelle-sur-Lèze - ECPv6.15.13//NONSGML v1.0//EN
CALSCALE:GREGORIAN
METHOD:PUBLISH
X-ORIGINAL-URL:https://www.lagardellesurleze.fr
X-WR-CALDESC:Évènements pour Commune de Lagardelle-sur-Lèze
REFRESH-INTERVAL;VALUE=DURATION:PT1H
X-Robots-Tag:noindex
X-PUBLISHED-TTL:PT1H
BEGIN:VTIMEZONE
TZID:Europe/Paris
BEGIN:DAYLIGHT
TZOFFSETFROM:+0100
TZOFFSETTO:+0200
TZNAME:CEST
DTSTART:20250330T010000
END:DAYLIGHT
BEGIN:STANDARD
TZOFFSETFROM:+0200
TZOFFSETTO:+0100
TZNAME:CET
DTSTART:20251026T010000
END:STANDARD
BEGIN:DAYLIGHT
TZOFFSETFROM:+0100
TZOFFSETTO:+0200
TZNAME:CEST
DTSTART:20260329T010000
END:DAYLIGHT
BEGIN:STANDARD
TZOFFSETFROM:+0200
TZOFFSETTO:+0100
TZNAME:CET
DTSTART:20261025T010000
END:STANDARD
BEGIN:DAYLIGHT
TZOFFSETFROM:+0100
TZOFFSETTO:+0200
TZNAME:CEST
DTSTART:20270328T010000
END:DAYLIGHT
BEGIN:STANDARD
TZOFFSETFROM:+0200
TZOFFSETTO:+0100
TZNAME:CET
DTSTART:20271031T010000
END:STANDARD
END:VTIMEZONE
BEGIN:VEVENT
DTSTART;TZID=Europe/Paris:20260530T164500
DTEND;TZID=Europe/Paris:20260530T184500
DTSTAMP:20260423T202853
CREATED:20260114T160529Z
LAST-MODIFIED:20260417T155609Z
UID:14169-1780159500-1780166700@www.lagardellesurleze.fr
SUMMARY:Viens\, on chante !
DESCRIPTION:Cette année\, le Café culturel « La Grange » vous propose un nouveau rendez-vous musical en partenariat avec l’école de musique : Viens\, on chante ! \nCet événement vise à rassembler des personnes qui ont envie de chanter en groupe\, qu’elles soient débutantes ou non. \nAprès le succès des deux premiers événements\, un dernier rendez-vous aura lieu le samedi 30 mai\, de 16h45 à 18h45\, au Café culturel « La Grange » ! Si vous n’avez pas encore sauté le pas\, c’est votre dernière chance de venir partager un moment convivial autour de la chanson française ! \nINSCRIPTION OBLIGATOIRE ICI avant le 13 mai\nGratuit pour les adhérents de l’école de musique de Lagardelle-sur-Lèze\n5 € pour les adultes non adhérents\n3 € pour les enfants non adhérents (à partir de 8 ans) \nQue vous chantiez un peu\, beaucoup ou pas du tout\, venez partager un moment convivial pour chanter ensemble !\nPour plus d’informations\, n’hésitez pas à contacter l’école de musique : ecoledemusique31@gmail.com
URL:https://www.lagardellesurleze.fr/evenement/viens-on-chante/
LOCATION:Café Culturel « La Grange »\, 1 impasse de la Mairie\, Lagardelle-sur-Lèze\, 31870
CATEGORIES:Associations,Café culturel,Culture,Loisirs
ATTACH;FMTTYPE=image/png:https://www.lagardellesurleze.fr/wp-content/uploads/2026/01/Bandeau-Viens-on-chante-2026.png
END:VEVENT
END:VCALENDAR