BEGIN:VCALENDAR
VERSION:2.0
PRODID:-//Commune de Lagardelle-sur-Lèze - ECPv6.15.13//NONSGML v1.0//EN
CALSCALE:GREGORIAN
METHOD:PUBLISH
X-WR-CALNAME:Commune de Lagardelle-sur-Lèze
X-ORIGINAL-URL:https://www.lagardellesurleze.fr
X-WR-CALDESC:Évènements pour Commune de Lagardelle-sur-Lèze
REFRESH-INTERVAL;VALUE=DURATION:PT1H
X-Robots-Tag:noindex
X-PUBLISHED-TTL:PT1H
BEGIN:VTIMEZONE
TZID:Europe/Paris
BEGIN:DAYLIGHT
TZOFFSETFROM:+0100
TZOFFSETTO:+0200
TZNAME:CEST
DTSTART:20250330T010000
END:DAYLIGHT
BEGIN:STANDARD
TZOFFSETFROM:+0200
TZOFFSETTO:+0100
TZNAME:CET
DTSTART:20251026T010000
END:STANDARD
BEGIN:DAYLIGHT
TZOFFSETFROM:+0100
TZOFFSETTO:+0200
TZNAME:CEST
DTSTART:20260329T010000
END:DAYLIGHT
BEGIN:STANDARD
TZOFFSETFROM:+0200
TZOFFSETTO:+0100
TZNAME:CET
DTSTART:20261025T010000
END:STANDARD
BEGIN:DAYLIGHT
TZOFFSETFROM:+0100
TZOFFSETTO:+0200
TZNAME:CEST
DTSTART:20270328T010000
END:DAYLIGHT
BEGIN:STANDARD
TZOFFSETFROM:+0200
TZOFFSETTO:+0100
TZNAME:CET
DTSTART:20271031T010000
END:STANDARD
END:VTIMEZONE
BEGIN:VEVENT
DTSTART;TZID=Europe/Paris:20260315T080000
DTEND;TZID=Europe/Paris:20260315T180000
DTSTAMP:20260423T170627
CREATED:20260305T114255Z
LAST-MODIFIED:20260305T114328Z
UID:14337-1773561600-1773597600@www.lagardellesurleze.fr
SUMMARY:Élections municipales
DESCRIPTION:Le premier tour des élections municipales aura lieu ce dimanche 15 mars. Les bureaux de vote seront ouverts de 8h à 18h. \nQUI VOTE ?\nToutes les personnes inscrites sur les listes électorales de la commune. Il suffit de se présenter à son bureau de vote avec sa carte d’identité et sa carte d’électeur. \nÀ noter : En cas d’oubli ou de perte de la carte d’électeur\, la carte d’identité suffit. \nCOMMENT TROUVER MON BUREAU DE VOTE ?\nLe bureau de vote est indiqué sur la carte d’électeur : \n\nBureaux 1 et 2 : Salle des fêtes\, 6 rue des Puits – 31870 Lagardelle-sur-Lèze\nBureau 3 : École élémentaire\, 2 rue des Puits – 31870 Lagardelle-sur-Lèze\n\nABSENT.E.S LE JOUR DES ÉLECTIONS ?\nPensez à faire une procuration dans les meilleurs délais possible ! Rendez-vous sur le site maprocuration.gouv.fr pour plus d’informations. \nPOURQUOI VOTER ?\nCes élections sont cruciales pour chaque ville. En effet\, les citoyen.ne.s pourront élire leurs conseillers municipaux qui mèneront les projets de la commune pour les six prochaines années. Entretien des écoles\, gestion des équipements sportifs ou culturels\, soutien aux associations\, services de proximité\, délivrance des permis de construire…Toutes ces décisions qui impactent votre quotidien sont prises par le conseil municipal. \n\nLe vote est l’occasion pour chaque citoyenne et citoyen d’exprimer sa volonté. Le 15 mars\, rendez-vous aux urnes !
URL:https://www.lagardellesurleze.fr/evenement/elections-municipales/
LOCATION:Lagardelle-sur-Lèze\, 31870
CATEGORIES:Vie municipale
ATTACH;FMTTYPE=image/jpeg:https://www.lagardellesurleze.fr/wp-content/uploads/2025/10/Visuel-VOTE-scaled-e1761918681581.jpg
END:VEVENT
END:VCALENDAR