BEGIN:VCALENDAR
VERSION:2.0
PRODID:-//Commune de Lagardelle-sur-Lèze - ECPv6.15.13//NONSGML v1.0//EN
CALSCALE:GREGORIAN
METHOD:PUBLISH
X-ORIGINAL-URL:https://www.lagardellesurleze.fr
X-WR-CALDESC:Évènements pour Commune de Lagardelle-sur-Lèze
REFRESH-INTERVAL;VALUE=DURATION:PT1H
X-Robots-Tag:noindex
X-PUBLISHED-TTL:PT1H
BEGIN:VTIMEZONE
TZID:Europe/Paris
BEGIN:DAYLIGHT
TZOFFSETFROM:+0100
TZOFFSETTO:+0200
TZNAME:CEST
DTSTART:20250330T010000
END:DAYLIGHT
BEGIN:STANDARD
TZOFFSETFROM:+0200
TZOFFSETTO:+0100
TZNAME:CET
DTSTART:20251026T010000
END:STANDARD
BEGIN:DAYLIGHT
TZOFFSETFROM:+0100
TZOFFSETTO:+0200
TZNAME:CEST
DTSTART:20260329T010000
END:DAYLIGHT
BEGIN:STANDARD
TZOFFSETFROM:+0200
TZOFFSETTO:+0100
TZNAME:CET
DTSTART:20261025T010000
END:STANDARD
BEGIN:DAYLIGHT
TZOFFSETFROM:+0100
TZOFFSETTO:+0200
TZNAME:CEST
DTSTART:20270328T010000
END:DAYLIGHT
BEGIN:STANDARD
TZOFFSETFROM:+0200
TZOFFSETTO:+0100
TZNAME:CET
DTSTART:20271031T010000
END:STANDARD
END:VTIMEZONE
BEGIN:VEVENT
DTSTART;TZID=Europe/Paris:20260110T163000
DTEND;TZID=Europe/Paris:20260110T233000
DTSTAMP:20260423T170647
CREATED:20251206T091812Z
LAST-MODIFIED:20251206T091812Z
UID:14051-1768062600-1768087800@www.lagardellesurleze.fr
SUMMARY:Panevin - Fête traditionnelle italienne
DESCRIPTION:Le samedi 10 janvier 2026\, la commune accueille le Panevin\, une fête traditionnelle italienne. \nCet événement est organisé chaque année depuis 2010\, par les comités de jumelage de Lagardelle-sur-Lèze\, Auterive\, Eaunes\, Labarthe-sur-Lèze\, Pins-Justaret\, Saubens et Venerque. \nAu programme du Panevin 2026 :\n\nÀ partir de 16h30 : Rassemblement sur la Place de Verdun où auront lieu des animations pour les enfants\nVers 18h : Arrivée de la Befana\nPuis\, les participants se dirigeront en cortège jusqu’au parking du parc du Vignaou afin de poursuivre les festivités et d’assister au bûcher.\n\nRestauration disponible sur place\nEntrée gratuite \nAvec la participation de la Mairie de Lagardelle-sur-Lèze \n  \n\nQu’est-ce que le Panevin ?\nIl s’agit de la fête traditionnelle du pain et du vin provenant du Nord-Est de l’Italie. Les origines de cette célébration remontent à plusieurs siècles : ce rituel festif avait pour but de favoriser une récolte abondante permettant la survie de la population (alors majoritairement paysanne). \nLa figure folklorique de la Befana est intrinsèquement liée au Panevin. Cette vieille femme offre des gâteaux aux enfants sages et des charbons à ceux qui ne le sont pas. Son nom pourrait provenir de la déformation d’Épiphanie\, nuit durant laquelle se déroule la fête. Pendant le Panevin\, la population se rassemble autour d’un bûcher où la figure de la Befana est brûlée. Autrefois\, l’orientation des fumées permettait d’annoncer si la récolte serait bonne ou mauvaise.
URL:https://www.lagardellesurleze.fr/evenement/panevin-fete-traditionnelle-italienne/
LOCATION:Place de Verdun\, Place de Verdun\, Lagardelle-sur-Lèze\, 31870
CATEGORIES:Associations
ATTACH;FMTTYPE=image/png:https://www.lagardellesurleze.fr/wp-content/uploads/2025/12/Bandeau-Panevin2026.png
END:VEVENT
END:VCALENDAR