BEGIN:VCALENDAR
VERSION:2.0
PRODID:-//Commune de Lagardelle-sur-Lèze - ECPv6.15.13//NONSGML v1.0//EN
CALSCALE:GREGORIAN
METHOD:PUBLISH
X-ORIGINAL-URL:https://www.lagardellesurleze.fr
X-WR-CALDESC:Évènements pour Commune de Lagardelle-sur-Lèze
REFRESH-INTERVAL;VALUE=DURATION:PT1H
X-Robots-Tag:noindex
X-PUBLISHED-TTL:PT1H
BEGIN:VTIMEZONE
TZID:Europe/Paris
BEGIN:DAYLIGHT
TZOFFSETFROM:+0100
TZOFFSETTO:+0200
TZNAME:CEST
DTSTART:20240331T010000
END:DAYLIGHT
BEGIN:STANDARD
TZOFFSETFROM:+0200
TZOFFSETTO:+0100
TZNAME:CET
DTSTART:20241027T010000
END:STANDARD
BEGIN:DAYLIGHT
TZOFFSETFROM:+0100
TZOFFSETTO:+0200
TZNAME:CEST
DTSTART:20250330T010000
END:DAYLIGHT
BEGIN:STANDARD
TZOFFSETFROM:+0200
TZOFFSETTO:+0100
TZNAME:CET
DTSTART:20251026T010000
END:STANDARD
BEGIN:DAYLIGHT
TZOFFSETFROM:+0100
TZOFFSETTO:+0200
TZNAME:CEST
DTSTART:20260329T010000
END:DAYLIGHT
BEGIN:STANDARD
TZOFFSETFROM:+0200
TZOFFSETTO:+0100
TZNAME:CET
DTSTART:20261025T010000
END:STANDARD
END:VTIMEZONE
BEGIN:VEVENT
DTSTART;TZID=Europe/Paris:20251213T100000
DTEND;TZID=Europe/Paris:20251214T200000
DTSTAMP:20260423T183634
CREATED:20251112T155603Z
LAST-MODIFIED:20251126T095236Z
UID:13856-1765620000-1765742400@www.lagardellesurleze.fr
SUMMARY:Marché de Noël
DESCRIPTION:Le Comité des fêtes organise son premier Marché de Noël les 13 et 14 décembre 2025.\nPROGRAMME DU WEEK-END :\n\nRencontre avec le Père Noël\nBalade en calèche (offerte par le Comité des fêtes et la Mairie)\nAnimations (par Rémi de Koncept Evenements)\nMascottes et jeux en bois géants\nMaquillages et animations pour les enfants\nPêche aux canards (uniquement le samedi)\nNombreux exposants : artisans\, créateurs\, producteurs…\nRestauration\, huîtres\, vin chaud\, marrons grillés\, chocolat chaud…\n\nTentez aussi votre chance à la Tombola où un panier garni est à gagner ! \nRendez-vous le samedi 13 décembre\, de 10h à 20h\, et le dimanche 14 décembre\, de 10h à 18h. \nLa magie de Noël arrive à Lagardelle !\n 
URL:https://www.lagardellesurleze.fr/evenement/marche-de-noel/
LOCATION:Lagardelle-sur-Lèze\, 31870
CATEGORIES:Associations,Jeunesse
END:VEVENT
BEGIN:VEVENT
DTSTART;TZID=Europe/Paris:20251213T140000
DTEND;TZID=Europe/Paris:20251213T173000
DTSTAMP:20260423T183634
CREATED:20251125T164056Z
LAST-MODIFIED:20251128T114931Z
UID:13896-1765634400-1765647000@www.lagardellesurleze.fr
SUMMARY:Noël des enfants
DESCRIPTION:Le Noël des enfants organisé par la Mairie se tiendra ce samedi 13 décembre 2025. \nCet événement est à destination de tous les enfants scolarisés à Lagardelle-sur-Lèze (maternelle et élémentaire). \nIls seront accueillis à la Salle des fêtes dès 14h. Jusqu’à 15h30\, ils pourront participer aux ateliers proposés par l’ALAE dans les locaux du centre de loisirs. \nPuis\, ils assisteront au spectacle « Troll d’Histoire » présenté par le cabaret Le Robinson : \nCockli est une jeune fille absorbée par les écrans. Accompagnés de nombreux personnages loufoques et colorés\, ses amis Cépatroll et Bienaimée vont l’aider à vaincre cette dépendance… \nL’après-midi se poursuivra avec une surprise ainsi qu’un chocolat chaud (offert par la Mairie) et un goûter (offert par l’ACAL). \nÀ noter : Le samedi 13 décembre se tiendra aussi le marché de Noël de Lagardelle-sur-Lèze de 10h à 20h. Vous pourrez également prolonger la magie de Noël dans la soirée avec le concert aux chandelles gratuit de l’École de Musique et de Chœur à Lèze\, à 20h30 dans la salle des fêtes. \nGratuit – Sans inscription\nLes enfants doivent être accompagnés d’au moins un adulte.
URL:https://www.lagardellesurleze.fr/evenement/noel-des-enfants/
LOCATION:Salle des fêtes\, 6 Rue des Puits\, Lagardelle-sur-Lèze\, 31870
CATEGORIES:Jeunesse
ATTACH;FMTTYPE=image/png:https://www.lagardellesurleze.fr/wp-content/uploads/2025/11/Bandeau-Noel-des-enfants2025.png
END:VEVENT
BEGIN:VEVENT
DTSTART;TZID=Europe/Paris:20251213T203000
DTEND;TZID=Europe/Paris:20251213T213000
DTSTAMP:20260423T183634
CREATED:20251126T154355Z
LAST-MODIFIED:20251126T161257Z
UID:13956-1765657800-1765661400@www.lagardellesurleze.fr
SUMMARY:Concert aux chandelles
DESCRIPTION:Le traditionnel concert aux chandelles de l’École de Musique se tiendra le samedi 13 décembre à 20h30 dans la salle des fêtes. \nLes musiciens de l’École de Musique et la chorale Chœur à Lèze vous invitent à un moment musical dans une atmosphère chaleureuse\, à la lueur des chandelles. \nVous pourrez profiter de la représentation avec un chocolat chaud ou un vin chaud. \nEntrée gratuite
URL:https://www.lagardellesurleze.fr/evenement/concert-aux-chandelles/
LOCATION:Salle des fêtes\, 6 Rue des Puits\, Lagardelle-sur-Lèze\, 31870
CATEGORIES:Associations,Loisirs
ATTACH;FMTTYPE=image/jpeg:https://www.lagardellesurleze.fr/wp-content/uploads/2025/11/Affiche-Concert-aux-chandelles-Dec2025-scaled-e1764171814425.jpg
END:VEVENT
END:VCALENDAR