BEGIN:VCALENDAR
VERSION:2.0
PRODID:-//Commune de Lagardelle-sur-Lèze - ECPv6.15.13//NONSGML v1.0//EN
CALSCALE:GREGORIAN
METHOD:PUBLISH
X-WR-CALNAME:Commune de Lagardelle-sur-Lèze
X-ORIGINAL-URL:https://www.lagardellesurleze.fr
X-WR-CALDESC:Évènements pour Commune de Lagardelle-sur-Lèze
REFRESH-INTERVAL;VALUE=DURATION:PT1H
X-Robots-Tag:noindex
X-PUBLISHED-TTL:PT1H
BEGIN:VTIMEZONE
TZID:Europe/Paris
BEGIN:DAYLIGHT
TZOFFSETFROM:+0100
TZOFFSETTO:+0200
TZNAME:CEST
DTSTART:20240331T010000
END:DAYLIGHT
BEGIN:STANDARD
TZOFFSETFROM:+0200
TZOFFSETTO:+0100
TZNAME:CET
DTSTART:20241027T010000
END:STANDARD
BEGIN:DAYLIGHT
TZOFFSETFROM:+0100
TZOFFSETTO:+0200
TZNAME:CEST
DTSTART:20250330T010000
END:DAYLIGHT
BEGIN:STANDARD
TZOFFSETFROM:+0200
TZOFFSETTO:+0100
TZNAME:CET
DTSTART:20251026T010000
END:STANDARD
BEGIN:DAYLIGHT
TZOFFSETFROM:+0100
TZOFFSETTO:+0200
TZNAME:CEST
DTSTART:20260329T010000
END:DAYLIGHT
BEGIN:STANDARD
TZOFFSETFROM:+0200
TZOFFSETTO:+0100
TZNAME:CET
DTSTART:20261025T010000
END:STANDARD
END:VTIMEZONE
BEGIN:VEVENT
DTSTART;TZID=Europe/Paris:20251209T170000
DTEND;TZID=Europe/Paris:20251209T193000
DTSTAMP:20260423T183850
CREATED:20251112T160339Z
LAST-MODIFIED:20251112T160339Z
UID:13861-1765299600-1765308600@www.lagardellesurleze.fr
SUMMARY:Marché Paysan
DESCRIPTION:L’association le Goût Des Autres (GDA) organise son marché paysan le mardi 9 décembre de 17h à 19h30\, place Verdun. \nVous y trouverez de nombreux produits locaux : viandes\, poissons\, pommes\, vin\, confitures\, épices\, cosmétiques… \nLe marché reçoit également l’association CARITAS qui proposera ses créations pour vos cadeaux de noël. \nUne collecte de produits paysans est aussi organisée au profit des bénéficiaires des Restos du Cœur d’Auterive. \nOuvert à tous
URL:https://www.lagardellesurleze.fr/evenement/marche-paysan/
LOCATION:Place de Verdun\, Place de Verdun\, Lagardelle-sur-Lèze\, 31870
CATEGORIES:Associations,Solidarité
END:VEVENT
END:VCALENDAR