BEGIN:VCALENDAR
VERSION:2.0
PRODID:-//Commune de Lagardelle-sur-Lèze - ECPv6.15.13//NONSGML v1.0//EN
CALSCALE:GREGORIAN
METHOD:PUBLISH
X-ORIGINAL-URL:https://www.lagardellesurleze.fr
X-WR-CALDESC:Évènements pour Commune de Lagardelle-sur-Lèze
REFRESH-INTERVAL;VALUE=DURATION:PT1H
X-Robots-Tag:noindex
X-PUBLISHED-TTL:PT1H
BEGIN:VTIMEZONE
TZID:Europe/Paris
BEGIN:DAYLIGHT
TZOFFSETFROM:+0100
TZOFFSETTO:+0200
TZNAME:CEST
DTSTART:20240331T010000
END:DAYLIGHT
BEGIN:STANDARD
TZOFFSETFROM:+0200
TZOFFSETTO:+0100
TZNAME:CET
DTSTART:20241027T010000
END:STANDARD
BEGIN:DAYLIGHT
TZOFFSETFROM:+0100
TZOFFSETTO:+0200
TZNAME:CEST
DTSTART:20250330T010000
END:DAYLIGHT
BEGIN:STANDARD
TZOFFSETFROM:+0200
TZOFFSETTO:+0100
TZNAME:CET
DTSTART:20251026T010000
END:STANDARD
BEGIN:DAYLIGHT
TZOFFSETFROM:+0100
TZOFFSETTO:+0200
TZNAME:CEST
DTSTART:20260329T010000
END:DAYLIGHT
BEGIN:STANDARD
TZOFFSETFROM:+0200
TZOFFSETTO:+0100
TZNAME:CET
DTSTART:20261025T010000
END:STANDARD
END:VTIMEZONE
BEGIN:VEVENT
DTSTART;TZID=Europe/Paris:20251122T100000
DTEND;TZID=Europe/Paris:20251123T170000
DTSTAMP:20260423T201024
CREATED:20251028T113559Z
LAST-MODIFIED:20251028T142702Z
UID:13771-1763805600-1763917200@www.lagardellesurleze.fr
SUMMARY:Exposition Patchwork
DESCRIPTION:L’association des Loisirs créatifs de Lagardelle-sur-Lèze expose ses créations dans la technique du patchwork\, les 22 et 23 novembre\, à la salle des fêtes. \nDurant tout le weekend\, de 10h à 17h\, venez découvrir des ouvrages colorés et variés. Vous pourrez aussi tenter votre chance à la tombola proposée par l’association ! \nGratuit
URL:https://www.lagardellesurleze.fr/evenement/exposition-patchwork/
LOCATION:Salle des fêtes\, 6 Rue des Puits\, Lagardelle-sur-Lèze\, 31870
CATEGORIES:Associations,Loisirs
ATTACH;FMTTYPE=image/png:https://www.lagardellesurleze.fr/wp-content/uploads/2025/10/Bandeau-Patchwork-e1761651299816.png
END:VEVENT
END:VCALENDAR