BEGIN:VCALENDAR
VERSION:2.0
PRODID:-//Commune de Lagardelle-sur-Lèze - ECPv6.15.13//NONSGML v1.0//EN
CALSCALE:GREGORIAN
METHOD:PUBLISH
X-WR-CALNAME:Commune de Lagardelle-sur-Lèze
X-ORIGINAL-URL:https://www.lagardellesurleze.fr
X-WR-CALDESC:Évènements pour Commune de Lagardelle-sur-Lèze
REFRESH-INTERVAL;VALUE=DURATION:PT1H
X-Robots-Tag:noindex
X-PUBLISHED-TTL:PT1H
BEGIN:VTIMEZONE
TZID:Europe/Paris
BEGIN:DAYLIGHT
TZOFFSETFROM:+0100
TZOFFSETTO:+0200
TZNAME:CEST
DTSTART:20240331T010000
END:DAYLIGHT
BEGIN:STANDARD
TZOFFSETFROM:+0200
TZOFFSETTO:+0100
TZNAME:CET
DTSTART:20241027T010000
END:STANDARD
BEGIN:DAYLIGHT
TZOFFSETFROM:+0100
TZOFFSETTO:+0200
TZNAME:CEST
DTSTART:20250330T010000
END:DAYLIGHT
BEGIN:STANDARD
TZOFFSETFROM:+0200
TZOFFSETTO:+0100
TZNAME:CET
DTSTART:20251026T010000
END:STANDARD
BEGIN:DAYLIGHT
TZOFFSETFROM:+0100
TZOFFSETTO:+0200
TZNAME:CEST
DTSTART:20260329T010000
END:DAYLIGHT
BEGIN:STANDARD
TZOFFSETFROM:+0200
TZOFFSETTO:+0100
TZNAME:CET
DTSTART:20261025T010000
END:STANDARD
END:VTIMEZONE
BEGIN:VEVENT
DTSTART;TZID=Europe/Paris:20251115T193000
DTEND;TZID=Europe/Paris:20251115T233000
DTSTAMP:20260423T200820
CREATED:20251024T135823Z
LAST-MODIFIED:20251024T135823Z
UID:13747-1763235000-1763249400@www.lagardellesurleze.fr
SUMMARY:Loto du Comité des fêtes
DESCRIPTION:Samedi 15 novembre 2025\, le Comité des fêtes vous donne rendez-vous à la salle des fêtes pour son Loto. \nL’ouverture des portes se fera à 19h30 et le jeu commencera à 21h. \nBons d’achat\, séjour au Futuroscope\, restaurants\, jambon… De nombreux lots sont à gagner ! \nTarifs : \n\n1 carton : 4 €\n3 cartons : 10 €\n6 cartons : 15 €\n\n  \nVente de boissons et de crêpes sur place.
URL:https://www.lagardellesurleze.fr/evenement/loto-du-comite-des-fetes/
LOCATION:Salle des fêtes\, 6 Rue des Puits\, Lagardelle-sur-Lèze\, 31870
CATEGORIES:Associations,Loisirs
END:VEVENT
END:VCALENDAR