BEGIN:VCALENDAR
VERSION:2.0
PRODID:-//Commune de Lagardelle-sur-Lèze - ECPv6.15.13//NONSGML v1.0//EN
CALSCALE:GREGORIAN
METHOD:PUBLISH
X-ORIGINAL-URL:https://www.lagardellesurleze.fr
X-WR-CALDESC:Évènements pour Commune de Lagardelle-sur-Lèze
REFRESH-INTERVAL;VALUE=DURATION:PT1H
X-Robots-Tag:noindex
X-PUBLISHED-TTL:PT1H
BEGIN:VTIMEZONE
TZID:Europe/Paris
BEGIN:DAYLIGHT
TZOFFSETFROM:+0100
TZOFFSETTO:+0200
TZNAME:CEST
DTSTART:20240331T010000
END:DAYLIGHT
BEGIN:STANDARD
TZOFFSETFROM:+0200
TZOFFSETTO:+0100
TZNAME:CET
DTSTART:20241027T010000
END:STANDARD
BEGIN:DAYLIGHT
TZOFFSETFROM:+0100
TZOFFSETTO:+0200
TZNAME:CEST
DTSTART:20250330T010000
END:DAYLIGHT
BEGIN:STANDARD
TZOFFSETFROM:+0200
TZOFFSETTO:+0100
TZNAME:CET
DTSTART:20251026T010000
END:STANDARD
BEGIN:DAYLIGHT
TZOFFSETFROM:+0100
TZOFFSETTO:+0200
TZNAME:CEST
DTSTART:20260329T010000
END:DAYLIGHT
BEGIN:STANDARD
TZOFFSETFROM:+0200
TZOFFSETTO:+0100
TZNAME:CET
DTSTART:20261025T010000
END:STANDARD
END:VTIMEZONE
BEGIN:VEVENT
DTSTART;TZID=Europe/Paris:20251111T113000
DTEND;TZID=Europe/Paris:20251111T123000
DTSTAMP:20260423T201206
CREATED:20251028T142819Z
LAST-MODIFIED:20251028T142819Z
UID:13774-1762860600-1762864200@www.lagardellesurleze.fr
SUMMARY:Cérémonie du 11 novembre
DESCRIPTION:En ce mardi 11 novembre 2025\, nous commémorerons le 107ème anniversaire de l’Armistice de 1918. \nLa cérémonie se tiendra à 11h30 au Monuments aux Morts (place de Verdun). \nElle sera suivie d’un verre de l’amitié au Café culturel « La Grange ».
URL:https://www.lagardellesurleze.fr/evenement/ceremonie-du-11-novembre/
LOCATION:Place de Verdun\, Place de Verdun\, Lagardelle-sur-Lèze\, 31870
CATEGORIES:Commémoration
ATTACH;FMTTYPE=image/png:https://www.lagardellesurleze.fr/wp-content/uploads/2025/10/Visuel-Commemoration-11nov1918.png
END:VEVENT
END:VCALENDAR