BEGIN:VCALENDAR
VERSION:2.0
PRODID:-//Commune de Lagardelle-sur-Lèze - ECPv6.15.13//NONSGML v1.0//EN
CALSCALE:GREGORIAN
METHOD:PUBLISH
X-ORIGINAL-URL:https://www.lagardellesurleze.fr
X-WR-CALDESC:Évènements pour Commune de Lagardelle-sur-Lèze
REFRESH-INTERVAL;VALUE=DURATION:PT1H
X-Robots-Tag:noindex
X-PUBLISHED-TTL:PT1H
BEGIN:VTIMEZONE
TZID:Europe/Paris
BEGIN:DAYLIGHT
TZOFFSETFROM:+0100
TZOFFSETTO:+0200
TZNAME:CEST
DTSTART:20240331T010000
END:DAYLIGHT
BEGIN:STANDARD
TZOFFSETFROM:+0200
TZOFFSETTO:+0100
TZNAME:CET
DTSTART:20241027T010000
END:STANDARD
BEGIN:DAYLIGHT
TZOFFSETFROM:+0100
TZOFFSETTO:+0200
TZNAME:CEST
DTSTART:20250330T010000
END:DAYLIGHT
BEGIN:STANDARD
TZOFFSETFROM:+0200
TZOFFSETTO:+0100
TZNAME:CET
DTSTART:20251026T010000
END:STANDARD
BEGIN:DAYLIGHT
TZOFFSETFROM:+0100
TZOFFSETTO:+0200
TZNAME:CEST
DTSTART:20260329T010000
END:DAYLIGHT
BEGIN:STANDARD
TZOFFSETFROM:+0200
TZOFFSETTO:+0100
TZNAME:CET
DTSTART:20261025T010000
END:STANDARD
END:VTIMEZONE
BEGIN:VEVENT
DTSTART;TZID=Europe/Paris:20251031T153000
DTEND;TZID=Europe/Paris:20251031T170000
DTSTAMP:20260423T200935
CREATED:20250925T155833Z
LAST-MODIFIED:20251001T144013Z
UID:13566-1761924600-1761930000@www.lagardellesurleze.fr
SUMMARY:Goûter Halloween
DESCRIPTION:L’Association des Parents d’Élèves « Souris Petit Colibri » vous donne rendez-vous le vendredi 31 octobre à 15h30 au Café culturel « La Grange » pour la 4ème édition du Goûter d’Halloween ! \nEnfilez votre costume le plus terrifiant et partagez un moment gourmand suivi d’une chasse au trésor dans le village. \nGratuit
URL:https://www.lagardellesurleze.fr/evenement/gouter-halloween/
LOCATION:Café Culturel « La Grange »\, 1 impasse de la Mairie\, Lagardelle-sur-Lèze\, 31870
CATEGORIES:Associations,Jeunesse
END:VEVENT
END:VCALENDAR