BEGIN:VCALENDAR
VERSION:2.0
PRODID:-//Commune de Lagardelle-sur-Lèze - ECPv6.15.13//NONSGML v1.0//EN
CALSCALE:GREGORIAN
METHOD:PUBLISH
X-WR-CALNAME:Commune de Lagardelle-sur-Lèze
X-ORIGINAL-URL:https://www.lagardellesurleze.fr
X-WR-CALDESC:Évènements pour Commune de Lagardelle-sur-Lèze
REFRESH-INTERVAL;VALUE=DURATION:PT1H
X-Robots-Tag:noindex
X-PUBLISHED-TTL:PT1H
BEGIN:VTIMEZONE
TZID:Europe/Paris
BEGIN:DAYLIGHT
TZOFFSETFROM:+0100
TZOFFSETTO:+0200
TZNAME:CEST
DTSTART:20240331T010000
END:DAYLIGHT
BEGIN:STANDARD
TZOFFSETFROM:+0200
TZOFFSETTO:+0100
TZNAME:CET
DTSTART:20241027T010000
END:STANDARD
BEGIN:DAYLIGHT
TZOFFSETFROM:+0100
TZOFFSETTO:+0200
TZNAME:CEST
DTSTART:20250330T010000
END:DAYLIGHT
BEGIN:STANDARD
TZOFFSETFROM:+0200
TZOFFSETTO:+0100
TZNAME:CET
DTSTART:20251026T010000
END:STANDARD
BEGIN:DAYLIGHT
TZOFFSETFROM:+0100
TZOFFSETTO:+0200
TZNAME:CEST
DTSTART:20260329T010000
END:DAYLIGHT
BEGIN:STANDARD
TZOFFSETFROM:+0200
TZOFFSETTO:+0100
TZNAME:CET
DTSTART:20261025T010000
END:STANDARD
END:VTIMEZONE
BEGIN:VEVENT
DTSTART;TZID=Europe/Paris:20250913T090000
DTEND;TZID=Europe/Paris:20250913T120000
DTSTAMP:20260423T225035
CREATED:20250827T125344Z
LAST-MODIFIED:20250827T125654Z
UID:13327-1757754000-1757764800@www.lagardellesurleze.fr
SUMMARY:Nettoyage d'automne
DESCRIPTION:La mairie organise un grand nettoyage d’automne le samedi 13 septembre. \nL’objectif de cette action est de sensibiliser à la propreté de la commune à travers une collecte de déchets. \nSi vous souhaitez participer\, rendez-vous à 9h devant la mairie. Il est conseillé de se munir de gants ainsi que d’un gilet de sécurité. Des sacs poubelle et quelques pinces seront mis à disposition. \nLa matinée se conclura avec un apéritif offert par la Mairie. Relevez le défi d’une ville sans déchet tout en partageant un moment de convivialité !
URL:https://www.lagardellesurleze.fr/evenement/nettoyage-dautomne/
LOCATION:Mairie\, 3 rue du Château du Vignaou\, Lagardelle-sur-Lèze\, 31870
CATEGORIES:Environnement
ATTACH;FMTTYPE=image/png:https://www.lagardellesurleze.fr/wp-content/uploads/2025/08/Bandeau-Nettoyage-dautomne2025-e1756297538588.png
END:VEVENT
END:VCALENDAR