BEGIN:VCALENDAR
VERSION:2.0
PRODID:-//Commune de Lagardelle-sur-Lèze - ECPv6.15.13//NONSGML v1.0//EN
CALSCALE:GREGORIAN
METHOD:PUBLISH
X-ORIGINAL-URL:https://www.lagardellesurleze.fr
X-WR-CALDESC:Évènements pour Commune de Lagardelle-sur-Lèze
REFRESH-INTERVAL;VALUE=DURATION:PT1H
X-Robots-Tag:noindex
X-PUBLISHED-TTL:PT1H
BEGIN:VTIMEZONE
TZID:Europe/Paris
BEGIN:DAYLIGHT
TZOFFSETFROM:+0100
TZOFFSETTO:+0200
TZNAME:CEST
DTSTART:20240331T010000
END:DAYLIGHT
BEGIN:STANDARD
TZOFFSETFROM:+0200
TZOFFSETTO:+0100
TZNAME:CET
DTSTART:20241027T010000
END:STANDARD
BEGIN:DAYLIGHT
TZOFFSETFROM:+0100
TZOFFSETTO:+0200
TZNAME:CEST
DTSTART:20250330T010000
END:DAYLIGHT
BEGIN:STANDARD
TZOFFSETFROM:+0200
TZOFFSETTO:+0100
TZNAME:CET
DTSTART:20251026T010000
END:STANDARD
BEGIN:DAYLIGHT
TZOFFSETFROM:+0100
TZOFFSETTO:+0200
TZNAME:CEST
DTSTART:20260329T010000
END:DAYLIGHT
BEGIN:STANDARD
TZOFFSETFROM:+0200
TZOFFSETTO:+0100
TZNAME:CET
DTSTART:20261025T010000
END:STANDARD
END:VTIMEZONE
BEGIN:VEVENT
DTSTART;TZID=Europe/Paris:20250906T090000
DTEND;TZID=Europe/Paris:20250906T120000
DTSTAMP:20260423T230343
CREATED:20250731T081340Z
LAST-MODIFIED:20250904T103410Z
UID:13237-1757149200-1757160000@www.lagardellesurleze.fr
SUMMARY:Forum des Associations
DESCRIPTION:Intéressé.e.s par la vie associative ? Envie de pratiquer une activité culturelle ou sportive ? \nPlus d’une vingtaine d’associations vous attendent ce samedi 6 septembre\, de 9h à 12h sur la place de Verdun\, pour vous faire découvrir leurs activités et échanger sur leurs engagements. \nProgramme et Associations participantes \nDurant toute la matinée\, vous pourrez déambuler à travers les stands d’information\, profiter d’un café offert par l’ACAL (Association des Commerçants\, Artisans et professions Libérales) et de crêpes offertes par le Comité Carnaval. Le Tennis Club de Lagardelle vous proposera également des cours d’essai au tennis\, tandis que les associations de Taekwondo (Le Jade de Shandong) et de danse (Cassiopée danse) feront des démonstrations de leur sport. Vous pourrez aussi faire une pause au Café culturel « La Grange » qui sera exceptionnellement ouvert de 9h à 12h.\nLe forum sera animé par Rémy de Koncept Evenements. \nTentez aussi votre chance à la Tombola gratuite du CCAS (Centre Communal d’Action Sociale) de la Mairie afin de peut-être remporter un chèque cadeau de 50€ pour l’inscription de votre enfant dans une association locale. 8 chèques cadeaux sont à gagner !\nLe tirage au sort se fera à 11h45.\n*La tombola est réservée aux enfants mineurs habitant Lagardelle.\nLes chèques cadeaux sont utilisables auprès des associations suivantes : AAPPMA (pêche)\, Lagardelle-Miremont sports (football)\, Judo club\, Le Jade de Shandong (taekwondo)\, Cassiopée Danse\, Equiway\, Info@lèze et l’école de musique. \nRèglement de la Tombola \nLa matinée se conclura par un apéritif offert par la Mairie à midi. \nLe forum des associations est un rendez-vous à ne pas manquer pour s’informer et trouver l’association qui correspond à vos centres d’intérêt ! \nEntrée libre
URL:https://www.lagardellesurleze.fr/evenement/forum-des-associations/
LOCATION:Place de Verdun\, Place de Verdun\, Lagardelle-sur-Lèze\, 31870
CATEGORIES:Associations,Loisirs
END:VEVENT
END:VCALENDAR